BEGIN:VCALENDAR
VERSION:2.0
PRODID:-//IHYMEP AFRIQUE - ECPv6.15.18//NONSGML v1.0//EN
CALSCALE:GREGORIAN
METHOD:PUBLISH
X-WR-CALNAME:IHYMEP AFRIQUE
X-ORIGINAL-URL:https://ihymepafrique.com
X-WR-CALDESC:Évènements pour IHYMEP AFRIQUE
REFRESH-INTERVAL;VALUE=DURATION:PT1H
X-Robots-Tag:noindex
X-PUBLISHED-TTL:PT1H
BEGIN:VTIMEZONE
TZID:UTC
BEGIN:STANDARD
TZOFFSETFROM:+0000
TZOFFSETTO:+0000
TZNAME:UTC
DTSTART:20250101T000000
END:STANDARD
END:VTIMEZONE
BEGIN:VEVENT
DTSTART;TZID=UTC:20260306T080000
DTEND;TZID=UTC:20260306T170000
DTSTAMP:20260420T113545
CREATED:20260306T095212Z
LAST-MODIFIED:20260306T095212Z
UID:6126-1772784000-1772816400@ihymepafrique.com
SUMMARY:Formation Housekeeping en partenariat avec l’École Supérieure en Management du Tourisme et de l’Hôtellerie-Restauration (ESMATH)
DESCRIPTION:🛏️ Derrière un lit au carré impeccable d’une chambre d’hôtel\, se cache un véritable métier. \nDans le cadre de son engagement pour la professionnalisation des métiers de la propreté\, IHYMEP AFRIQUE\, en partenariat avec l’École Supérieure en Management du Tourisme et de l’Hôtellerie-Restauration (ESMATH) du Bénin\, organise des sessions de formation pratique en Housekeeping pour les étudiants. \n🎓 Après les enseignements théoriques à ESMATH\, les apprenants sont plongés dans une immersion professionnelle réelle au Paradisia Hôtel à Godomey\, un établissement 4 étoiles\, afin de découvrir les exigences et les standards du métier. \nAu programme de cette formation terrain :\n✨Les bases du métier de Housekeeping\n✨Les techniques professionnelles d’entretien d’une chambre d’hôtel\n✨Les standards d’hygiène et de qualité\n✨Le dressage du lit au carré\, symbole du savoir-faire et de la rigueur dans l’hôtellerie haut de gamme \nCette approche pédagogique permet aux étudiants de :\n* développer des gestes professionnels précis\n* comprendre les standards internationaux de qualité\n* acquérir les réflexes du métier dans un environnement réel \n👏 Félicitations aux étudiants pour leur engagement et merci au Paradisia Hôtel pour son accueil et sa contribution à la formation de la nouvelle génération de professionnels de l’hôtellerie au Bénin. \nChez IHYMEP AFRIQUE\, nous croyons que l’excellence naît de la pratique\, de la rigueur et de la transmission du savoir-faire. \n📸 Quelques images de la séance pratique de dressage du lit au carré.
URL:https://ihymepafrique.com/event/formation-housekeeping-en-partenariat-avec-lecole-superieure-en-management-du-tourisme-et-de-lhotellerie-restauration-esmath/
ATTACH;FMTTYPE=image/jpeg:https://ihymepafrique.com/wp-content/uploads/2026/03/WhatsApp-Image-2026-03-05-at-20.57.04.jpeg
END:VEVENT
END:VCALENDAR