BEGIN:VCALENDAR
VERSION:2.0
PRODID:-//IHYMEP AFRIQUE - ECPv6.15.18//NONSGML v1.0//EN
CALSCALE:GREGORIAN
METHOD:PUBLISH
X-ORIGINAL-URL:https://ihymepafrique.com
X-WR-CALDESC:Évènements pour IHYMEP AFRIQUE
REFRESH-INTERVAL;VALUE=DURATION:PT1H
X-Robots-Tag:noindex
X-PUBLISHED-TTL:PT1H
BEGIN:VTIMEZONE
TZID:UTC
BEGIN:STANDARD
TZOFFSETFROM:+0000
TZOFFSETTO:+0000
TZNAME:UTC
DTSTART:20250101T000000
END:STANDARD
END:VTIMEZONE
BEGIN:VEVENT
DTSTART;VALUE=DATE:20260118
DTEND;VALUE=DATE:20260119
DTSTAMP:20260420T145443
CREATED:20260317T120158Z
LAST-MODIFIED:20260403T114048Z
UID:6140-1768694400-1768780799@ihymepafrique.com
SUMMARY:Webinaire du 18 janvier 2026 avec Meetup Médical Africa : LA JAVEL EN MILIEU HOSPITALIER : efficacité\, limites\, solutions alternatives
DESCRIPTION:
URL:https://ihymepafrique.com/event/webinaire-du-mois-de-janvier-2026_ihymep-afrique-et-meetup-medical-africa/
CATEGORIES:Hygi'Actu
ATTACH;FMTTYPE=image/jpeg:https://ihymepafrique.com/wp-content/uploads/2026/03/WhatsApp-Image-2026-03-17-at-13.16.25.jpeg
END:VEVENT
END:VCALENDAR