BEGIN:VCALENDAR
VERSION:2.0
PRODID:-//IHYMEP AFRIQUE - ECPv6.15.18//NONSGML v1.0//EN
CALSCALE:GREGORIAN
METHOD:PUBLISH
X-WR-CALNAME:IHYMEP AFRIQUE
X-ORIGINAL-URL:https://ihymepafrique.com
X-WR-CALDESC:Évènements pour IHYMEP AFRIQUE
REFRESH-INTERVAL;VALUE=DURATION:PT1H
X-Robots-Tag:noindex
X-PUBLISHED-TTL:PT1H
BEGIN:VTIMEZONE
TZID:UTC
BEGIN:STANDARD
TZOFFSETFROM:+0000
TZOFFSETTO:+0000
TZNAME:UTC
DTSTART:20240101T000000
END:STANDARD
END:VTIMEZONE
BEGIN:VEVENT
DTSTART;VALUE=DATE:20250710
DTEND;VALUE=DATE:20250711
DTSTAMP:20260421T002313
CREATED:20250708T173713Z
LAST-MODIFIED:20250710T153153Z
UID:6089-1752105600-1752191999@ihymepafrique.com
SUMMARY:FORMATION DU 07 JUIN SUR LES BONNES PRATIQUES DE STERILISATION HOSPITALIERE
DESCRIPTION:Le 7 Juin 2025\, IHYMEP AFRIQUE a coanimé une formation sur les Bonnes Pratiques de Stérilisation Hospitalière avec l’Association Béninoise de Stérilisation Hospitalière (ABSH). Cette formation avait pour objectif de sensibiliser les professionnels de santé sur la maîtrise du traitement des dispositifs médicaux réutilisables. Elle a mobilisé une centaine de participants venant d’établissements de soins publics et privés du Bénin. \nDes activités ludiques et pédagogiques proposées par IHYMEP AFRIQUE ont permis de dynamiser cette journée de formation : un jeu de cartes sur le protocole de pré désinfection des DM et un jeu concours qui a fait trois heureux gagnants : le Centre Hospitalier Départemental du Mono (CHD-MONO)\, la clinique CICA\, l’hôpital de zone de Menontin\nLes lots remportés sont composés de produits de traitement des DM du laboratoire FRANKLAB\, ainsi que des bacs à instruments. \nUn grand merci à l’ABSH pour cette initiative et aux participants pour leur participation active.! \n\n\n  \n 
URL:https://ihymepafrique.com/event/formation-du-07-juin-sur-les-bonnes-pratiques-de-sterilisation-hospitaliere/
ATTACH;FMTTYPE=image/jpeg:https://ihymepafrique.com/wp-content/uploads/2025/07/ABSH-.jpg
END:VEVENT
BEGIN:VEVENT
DTSTART;TZID=UTC:20250710T080000
DTEND;TZID=UTC:20250710T170000
DTSTAMP:20260421T002313
CREATED:20250710T192847Z
LAST-MODIFIED:20250710T192929Z
UID:6111-1752134400-1752166800@ihymepafrique.com
SUMMARY:JOURNEE MONDIALE DE L'HYGIENE DES MAINS 05 MAI 2025
DESCRIPTION:IHYMEP AFRIQUE a célébré le 5 mai 2025 la journée mondiale de l’hygiène des mains ; une journée instaurée par l’organisation Mondiale de la Santé et dont le thème de cette année est : Les gants parfois\, l’hygiène des mains toujours. \nA cette occasion\, IHYMEP AFRIQUE a mené plusieurs activités de sensibilisation et d’animations ludiques sur le terrain aux côtés de ses partenaires. Quiz sur l’hygiène des mains\, jeux de carte sur le protocole de lavage hygiénique\, distribution gratuite de produits d’hygiène des mains au public à cette occasion ont rehaussé le niveau de l’évènement.\n\n\nDeux équipes étaient dans deux établissements de soins différents :\n\n– L’une à la clinique Divine Miséricorde d’Abomey Calavi où l’évènement a été célébré en collaboration avec la Société Béninoise d’Hygiène Hospitalière – Prévention et Contrôle des Infections (SB2H-PCI) et sous le haut parrainage du Ministère de la Santé\n\n\n\n– L’autre aux côtés du Centre National Hospitalier Universitaire Hubert Koutoukou MAGA (CNHU-HKM) qui a mobilisé un grand monde. Une conférence sur la “place de l’hygiène des mains dans la prévention des infections associées aux soins et services” a rappelé à toute l’assistance le rôle essentiel de l’hygiène des mains en milieux de soins\n\n\n\nL’hygiène des mains ne dure que quelques secondes\, mais son impact protège des vies pour longtemps.\nRendez-vous le 05 Mai 2026 pour la prochaine edition.
URL:https://ihymepafrique.com/event/journee-mondiale-de-lhygiene-des-mains-05-mai-2025/
ATTACH;FMTTYPE=image/jpeg:https://ihymepafrique.com/wp-content/uploads/2025/07/CNHU-.jpg
END:VEVENT
END:VCALENDAR